BEGIN:VCALENDAR
VERSION:2.0
METHOD:PUBLISH
BEGIN:VEVENT
UID:WILD_APRICOT_EVENT_3766165_SESSION_1
DTSTART:20200402T080000Z
DTEND:20200402T100000Z
SUMMARY:GCDLA - Trivia Night
LOCATION:Benowa Tavern
DESCRIPTION:https://www.gcdla.com.au/event-3766165\n\n\n\n
DTSTAMP:20260424T155719Z
END:VEVENT
END:VCALENDAR
