BEGIN:VCALENDAR
VERSION:2.0
METHOD:PUBLISH
BEGIN:VEVENT
UID:WILD_APRICOT_EVENT_3744512_SESSION_1
DTSTART:20200421T210000Z
DTEND:20200421T230000Z
SUMMARY:Pride In Law & GCDLA Workshop
LOCATION:Ramsden Lawyers
DESCRIPTION:https://www.gcdla.com.au/event-3744512\n\nPride in Law will be returning to the Gold Coast! Last year\, the GCDLA was delighted to host Pride in Law at a meet-and-greet\, this year we are doing it bigger and better! Please join us a workshop to celebrate and include our LGBTIQ+ community.\n  The purpose of this workshop is to discuss how we can balance client interests and client prejudices whilst maintaining and advocating for a diverse workplace and profession. Professionals and students will be divided into groups to answer various questions. We will collect those answers and then release a report following the event\, so we can share the knowledge and information.\n  \n\n
DTSTAMP:20260424T155807Z
END:VEVENT
END:VCALENDAR
