BEGIN:VCALENDAR
VERSION:2.0
METHOD:PUBLISH
BEGIN:VEVENT
UID:WILD_APRICOT_EVENT_3739866_SESSION_1
DTSTART:20201104T140000Z
DTEND:20201106T140000Z
SUMMARY:Happy Lawyer\, Happy Life Retreat
LOCATION:Kingscliff
DESCRIPTION:https://www.gcdla.com.au/event-3739866\n\n\n\n
DTSTAMP:20260424T171658Z
END:VEVENT
END:VCALENDAR
