BEGIN:VCALENDAR
VERSION:2.0
METHOD:PUBLISH
BEGIN:VEVENT
UID:WILD_APRICOT_EVENT_3739864_SESSION_1
DTSTART:20201029T140000Z
DTEND:20201030T140000Z
SUMMARY:My Community Legal Drinks
LOCATION:
DESCRIPTION:https://www.gcdla.com.au/event-3739864\n\n\n\n
DTSTAMP:20260424T171612Z
END:VEVENT
END:VCALENDAR
