BEGIN:VCALENDAR
VERSION:2.0
METHOD:PUBLISH
BEGIN:VEVENT
UID:WILD_APRICOT_EVENT_3739862_SESSION_1
DTSTART:20200924T140000Z
DTEND:20200925T140000Z
SUMMARY:My Community Legal Drinks
LOCATION:
DESCRIPTION:https://www.gcdla.com.au/event-3739862\n\n\n\n
DTSTAMP:20260424T173026Z
END:VEVENT
END:VCALENDAR
