BEGIN:VCALENDAR
VERSION:2.0
METHOD:PUBLISH
BEGIN:VEVENT
UID:WILD_APRICOT_EVENT_3739856_SESSION_1
DTSTART:20200730T140000Z
DTEND:20200731T140000Z
SUMMARY:My Community Legal Drinks
LOCATION:
DESCRIPTION:https://www.gcdla.com.au/event-3739856\n\n\n\n
DTSTAMP:20260424T171755Z
END:VEVENT
END:VCALENDAR
