BEGIN:VCALENDAR
VERSION:2.0
METHOD:PUBLISH
BEGIN:VEVENT
UID:WILD_APRICOT_EVENT_3739851_SESSION_1
DTSTART:20200604T140000Z
DTEND:20200605T140000Z
SUMMARY:QLS / GCDLA Symposium
LOCATION:
DESCRIPTION:https://www.gcdla.com.au/event-3739851\n\n\n\n
DTSTAMP:20260424T162021Z
END:VEVENT
END:VCALENDAR
