BEGIN:VCALENDAR
VERSION:2.0
METHOD:PUBLISH
BEGIN:VEVENT
UID:WILD_APRICOT_EVENT_3739848_SESSION_1
DTSTART:20200528T140000Z
DTEND:20200529T140000Z
SUMMARY:My Community Legal Drinks
LOCATION:
DESCRIPTION:https://www.gcdla.com.au/event-3739848\n\n\n\n
DTSTAMP:20260424T171413Z
END:VEVENT
END:VCALENDAR
