BEGIN:VCALENDAR
VERSION:2.0
METHOD:PUBLISH
BEGIN:VEVENT
UID:WILD_APRICOT_EVENT_3739846_SESSION_1
DTSTART:20200423T140000Z
DTEND:20200424T140000Z
SUMMARY:My Community Legal Drinks
LOCATION:
DESCRIPTION:https://www.gcdla.com.au/event-3739846\n\n\n\n
DTSTAMP:20260424T155855Z
END:VEVENT
END:VCALENDAR
