BEGIN:VCALENDAR
VERSION:2.0
METHOD:PUBLISH
BEGIN:VEVENT
UID:WILD_APRICOT_EVENT_3739845_SESSION_1
DTSTART:20200421T140000Z
DTEND:20200422T140000Z
SUMMARY:Pride in Law
LOCATION:
DESCRIPTION:https://www.gcdla.com.au/event-3739845\n\n\n\n
DTSTAMP:20260424T171502Z
END:VEVENT
END:VCALENDAR
