BEGIN:VCALENDAR
VERSION:2.0
METHOD:PUBLISH
BEGIN:VEVENT
UID:WILD_APRICOT_EVENT_3739843_SESSION_1
DTSTART:20200312T140000Z
DTEND:20200314T140000Z
SUMMARY:QLS Symposium
LOCATION:
DESCRIPTION:https://www.gcdla.com.au/event-3739843\n\n\n\n
DTSTAMP:20260424T172015Z
END:VEVENT
END:VCALENDAR
