BEGIN:VCALENDAR
VERSION:2.0
METHOD:PUBLISH
BEGIN:VEVENT
UID:WILD_APRICOT_EVENT_3739840_SESSION_1
DTSTART:20200227T140000Z
DTEND:20200228T140000Z
SUMMARY:My Community Legal Drinks
LOCATION:
DESCRIPTION:https://www.gcdla.com.au/event-3739840\n\n\n\n
DTSTAMP:20260424T162703Z
END:VEVENT
END:VCALENDAR
