BEGIN:VCALENDAR
VERSION:2.0
METHOD:PUBLISH
BEGIN:VEVENT
UID:WILD_APRICOT_EVENT_3739834_SESSION_1
DTSTART:20200305T140000Z
DTEND:20200306T140000Z
SUMMARY:Meet the Judiciary Breakfast
LOCATION:
DESCRIPTION:https://www.gcdla.com.au/event-3739834\n\n\n\n
DTSTAMP:20260424T155825Z
END:VEVENT
END:VCALENDAR
