BEGIN:VCALENDAR
VERSION:2.0
METHOD:PUBLISH
BEGIN:VEVENT
UID:WILD_APRICOT_EVENT_3739829_SESSION_1
DTSTART:20200212T140000Z
DTEND:20200213T140000Z
SUMMARY:Cyber Security - QLS
LOCATION:
DESCRIPTION:https://www.gcdla.com.au/event-3739829\n\n\n\n
DTSTAMP:20260424T172024Z
END:VEVENT
END:VCALENDAR
