BEGIN:VCALENDAR
VERSION:2.0
METHOD:PUBLISH
BEGIN:VEVENT
UID:WILD_APRICOT_EVENT_3737656_SESSION_1
DTSTART:20200305T210000Z
DTEND:20200305T233000Z
SUMMARY:Meet the Judiciary Breakfast
LOCATION:RACV Royal Pines Resort
DESCRIPTION:https://www.gcdla.com.au/event-3737656\n\n\n\n
DTSTAMP:20260424T160520Z
END:VEVENT
END:VCALENDAR
