BEGIN:VCALENDAR
VERSION:2.0
METHOD:PUBLISH
BEGIN:VEVENT
UID:WILD_APRICOT_EVENT_3662968_SESSION_1
DTSTART:20200130T073000Z
DTEND:20200130T073000Z
SUMMARY:GCDLA - Barefoot Bowls
LOCATION:Broadbeach Bowls Club
DESCRIPTION:https://www.gcdla.com.au/event-3662968\n\n\n\n
DTSTAMP:20260424T155749Z
END:VEVENT
END:VCALENDAR
