BEGIN:VCALENDAR
VERSION:2.0
METHOD:PUBLISH
BEGIN:VEVENT
UID:WILD_APRICOT_EVENT_3617268_SESSION_1
DTSTART:20201124T140000Z
DTEND:20201125T140000Z
SUMMARY:GLAD - Breakfast
LOCATION:
DESCRIPTION:https://www.gcdla.com.au/event-3617268\n\n\n\n
DTSTAMP:20260424T155739Z
END:VEVENT
END:VCALENDAR
