BEGIN:VCALENDAR
VERSION:2.0
METHOD:PUBLISH
BEGIN:VEVENT
UID:WILD_APRICOT_EVENT_3617267_SESSION_1
DTSTART:20200922T140000Z
DTEND:20200923T140000Z
SUMMARY:GLAD - Breakfast
LOCATION:
DESCRIPTION:https://www.gcdla.com.au/event-3617267\n\n\n\n
DTSTAMP:20260424T160501Z
END:VEVENT
END:VCALENDAR
