BEGIN:VCALENDAR
VERSION:2.0
METHOD:PUBLISH
BEGIN:VEVENT
UID:WILD_APRICOT_EVENT_3617266_SESSION_1
DTSTART:20200721T140000Z
DTEND:20200722T140000Z
SUMMARY:GLAD - Breakfast
LOCATION:
DESCRIPTION:https://www.gcdla.com.au/event-3617266\n\n\n\n
DTSTAMP:20260424T174136Z
END:VEVENT
END:VCALENDAR
