BEGIN:VCALENDAR
VERSION:2.0
METHOD:PUBLISH
BEGIN:VEVENT
UID:WILD_APRICOT_EVENT_3617265_SESSION_1
DTSTART:20200526T140000Z
DTEND:20200527T140000Z
SUMMARY:GLAD - Breakfast
LOCATION:
DESCRIPTION:https://www.gcdla.com.au/event-3617265\n\n\n\n
DTSTAMP:20260424T171509Z
END:VEVENT
END:VCALENDAR
