BEGIN:VCALENDAR
VERSION:2.0
METHOD:PUBLISH
BEGIN:VEVENT
UID:WILD_APRICOT_EVENT_3617264_SESSION_1
DTSTART:20200324T140000Z
DTEND:20200325T140000Z
SUMMARY:GLAD - Breakfast
LOCATION:
DESCRIPTION:https://www.gcdla.com.au/event-3617264\n\n\n\n
DTSTAMP:20260424T155709Z
END:VEVENT
END:VCALENDAR
