BEGIN:VCALENDAR
VERSION:2.0
METHOD:PUBLISH
BEGIN:VEVENT
UID:WILD_APRICOT_EVENT_3614455_SESSION_1
DTSTART:20191206T073000Z
DTEND:20191206T120000Z
SUMMARY:GCDLA - Christmas Party
LOCATION:Edgewater\, Capri on Via Roma
DESCRIPTION:https://www.gcdla.com.au/event-3614455\n\n\n Great news\, ticket sales have been extended until the start of the event\, Friday 5.30pm! So you're not too late to join the fun!
DTSTAMP:20260425T025442Z
END:VEVENT
END:VCALENDAR
