BEGIN:VCALENDAR
VERSION:2.0
METHOD:PUBLISH
BEGIN:VEVENT
UID:WILD_APRICOT_EVENT_3562088_SESSION_1
DTSTART:20191017T071500Z
DTEND:20191017T071500Z
SUMMARY:CPD Presentation - Practice\, Procedure & Professionalism
LOCATION:Southport Courthouse
DESCRIPTION:https://www.gcdla.com.au/event-3562088\n\n\n\n  \n\n\n
DTSTAMP:20260424T174055Z
END:VEVENT
END:VCALENDAR
