BEGIN:VCALENDAR
VERSION:2.0
METHOD:PUBLISH
BEGIN:VEVENT
UID:WILD_APRICOT_EVENT_3537474_SESSION_1
DTSTART:20190918T140000Z
DTEND:20190919T140000Z
SUMMARY:GCDLA Early Career Lawyer Networking Event at Kurrawa Surf Club
LOCATION:
DESCRIPTION:https://www.gcdla.com.au/event-3537474\n\n\n\n
DTSTAMP:20260424T161956Z
END:VEVENT
END:VCALENDAR
