BEGIN:VCALENDAR
VERSION:2.0
METHOD:PUBLISH
BEGIN:VEVENT
UID:WILD_APRICOT_EVENT_3514015_SESSION_1
DTSTART:20191114T140000Z
DTEND:20191115T140000Z
SUMMARY:3rd Annual Pride in Law Address 5.30pm @ Supreme Court QLD\, 415 George Street\, Brisbane
LOCATION:
DESCRIPTION:https://www.gcdla.com.au/event-3514015\n\n\n\n
DTSTAMP:20260424T174330Z
END:VEVENT
END:VCALENDAR
