BEGIN:VCALENDAR
VERSION:2.0
METHOD:PUBLISH
BEGIN:VEVENT
UID:WILD_APRICOT_EVENT_3514014_SESSION_1
DTSTART:20191107T140000Z
DTEND:20191109T140000Z
SUMMARY:Happy Lawyer\, Happy life Retreat at Peppers Resort\, Kingscliff
LOCATION:
DESCRIPTION:https://www.gcdla.com.au/event-3514014\n\n\n\n
DTSTAMP:20260424T174253Z
END:VEVENT
END:VCALENDAR
