BEGIN:VCALENDAR
VERSION:2.0
METHOD:PUBLISH
BEGIN:VEVENT
UID:WILD_APRICOT_EVENT_3514013_SESSION_1
DTSTART:20191031T140000Z
DTEND:20191101T140000Z
SUMMARY:GCDLA CPD Series (free CPD event) at Griffith University
LOCATION:
DESCRIPTION:https://www.gcdla.com.au/event-3514013\n\n\n\n
DTSTAMP:20260424T174146Z
END:VEVENT
END:VCALENDAR
