BEGIN:VCALENDAR
VERSION:2.0
METHOD:PUBLISH
BEGIN:VEVENT
UID:WILD_APRICOT_EVENT_3514012_SESSION_1
DTSTART:20191024T140000Z
DTEND:20191025T140000Z
SUMMARY:My Community Legal Annual General Meeting at Southern Cross University
LOCATION:
DESCRIPTION:https://www.gcdla.com.au/event-3514012\n\n\n\n
DTSTAMP:20260424T174310Z
END:VEVENT
END:VCALENDAR
