BEGIN:VCALENDAR
VERSION:2.0
METHOD:PUBLISH
BEGIN:VEVENT
UID:WILD_APRICOT_EVENT_3514011_SESSION_1
DTSTART:20191010T140000Z
DTEND:20191011T140000Z
SUMMARY:Happy Lawyer\, Happy Life Advanced Collaborative Training
LOCATION:
DESCRIPTION:https://www.gcdla.com.au/event-3514011\n\n\n\n
DTSTAMP:20260425T024934Z
END:VEVENT
END:VCALENDAR
