BEGIN:VCALENDAR
VERSION:2.0
METHOD:PUBLISH
BEGIN:VEVENT
UID:WILD_APRICOT_EVENT_3514010_SESSION_1
DTSTART:20191002T140000Z
DTEND:20191003T140000Z
SUMMARY:Gerard Brennan Lecture and Dinner at 5.30pm at Bond University with guest speaker Susan Kiefel AC\, Chief Justice of the High Court of Australia
LOCATION:
DESCRIPTION:https://www.gcdla.com.au/event-3514010\n\n\n\n
DTSTAMP:20260424T173854Z
END:VEVENT
END:VCALENDAR
