BEGIN:VCALENDAR
VERSION:2.0
METHOD:PUBLISH
BEGIN:VEVENT
UID:WILD_APRICOT_EVENT_3514009_SESSION_1
DTSTART:20190926T140000Z
DTEND:20190927T140000Z
SUMMARY:5.30pm Last Friday of the Month Drinks hosted by My Community Legal
LOCATION:
DESCRIPTION:https://www.gcdla.com.au/event-3514009\n\n\n\n
DTSTAMP:20260424T174039Z
END:VEVENT
END:VCALENDAR
