BEGIN:VCALENDAR
VERSION:2.0
METHOD:PUBLISH
BEGIN:VEVENT
UID:WILD_APRICOT_EVENT_3514008_SESSION_1
DTSTART:20190901T140000Z
DTEND:20190902T140000Z
SUMMARY:Happy Lawyer\, Happy Life – Launch of the Collaborative Practice Bootcamp
LOCATION:
DESCRIPTION:https://www.gcdla.com.au/event-3514008\n\n\n\n
DTSTAMP:20260424T173800Z
END:VEVENT
END:VCALENDAR
