BEGIN:VCALENDAR
VERSION:2.0
METHOD:PUBLISH
BEGIN:VEVENT
UID:WILD_APRICOT_EVENT_3483494_SESSION_1
DTSTART:20190823T020000Z
DTEND:20190823T050000Z
SUMMARY:AGM Lunch
LOCATION:Hyde Paradiso - Peppers Soul
DESCRIPTION:https://www.gcdla.com.au/event-3483494\n\n\n
DTSTAMP:20260424T174030Z
END:VEVENT
END:VCALENDAR
