BEGIN:VCALENDAR
VERSION:2.0
METHOD:PUBLISH
BEGIN:VEVENT
UID:WILD_APRICOT_EVENT_3483438_SESSION_1
DTSTART:20190801T210000Z
DTEND:20190801T210000Z
SUMMARY:GCDLA beach relay - new date
LOCATION:Mainbeach
DESCRIPTION:https://www.gcdla.com.au/event-3483438\n\n\n\n  Get your team of four together for the annual Beach Relay!\n  We encourage entrants in the masters division (must be aged 40 years or over).\n  All teams (Masters and Opens) are 4 persons per team\; with no more than 2 males in each opens team. \n  If you cannot form a team\, please email info@gcdla.com.au so we can arrange a team for you. \n\n  We encourage all participants to enjoy a well-deserved breakfast at the Main Beach Pavilion Cafe afterwards!\n\n  \n\n
DTSTAMP:20260424T155835Z
END:VEVENT
END:VCALENDAR
