BEGIN:VCALENDAR
VERSION:2.0
METHOD:PUBLISH
BEGIN:VEVENT
UID:WILD_APRICOT_EVENT_3447669_SESSION_1
DTSTART:20190620T073000Z
DTEND:20190620T093000Z
SUMMARY:Chartered Accountants - Australia and New Zealand Networking Event
LOCATION:
DESCRIPTION:https://www.gcdla.com.au/event-3447669\n\n\n  If you’d like to join us at this exciting new venue for what is sure to be a great night\, please click on the link below to register. This link will redirect you to Chartered Accountants - Australia and New Zealand's website for registration. \n  REGISTER NOW\n
DTSTAMP:20260424T155729Z
END:VEVENT
END:VCALENDAR
