BEGIN:VCALENDAR
VERSION:2.0
METHOD:PUBLISH
BEGIN:VEVENT
UID:WILD_APRICOT_EVENT_3308993_SESSION_1
DTSTART:20190516T213000Z
DTEND:20190516T213000Z
SUMMARY:GCDLA beach relay
LOCATION:Mainbeach
DESCRIPTION:https://www.gcdla.com.au/event-3308993\n\n\n\n  Get your team of four together for the annual Beach Relay!\n\n  \n\n
DTSTAMP:20260424T173933Z
END:VEVENT
END:VCALENDAR
