BEGIN:VCALENDAR
VERSION:2.0
METHOD:PUBLISH
BEGIN:VEVENT
UID:WILD_APRICOT_EVENT_3301610_SESSION_1
DTSTART:20190405T073000Z
DTEND:20190405T073000Z
SUMMARY:GCDLA WELCOMES PRIDE IN LAW
LOCATION:Edgewater Dining\, Isle of Capri
DESCRIPTION:https://www.gcdla.com.au/event-3301610\n\nFOR MEMBERS - LOGIN HERE\n  \n\n
DTSTAMP:20260424T171547Z
END:VEVENT
END:VCALENDAR
