BEGIN:VCALENDAR
VERSION:2.0
METHOD:PUBLISH
BEGIN:VEVENT
UID:WILD_APRICOT_EVENT_3266373_SESSION_1
DTSTART:20190321T073000Z
DTEND:20190321T073000Z
SUMMARY:GCDLA TRIVIA NIGHT
LOCATION:Broadbeach Bowls Club
DESCRIPTION:https://www.gcdla.com.au/event-3266373\n\n\n\n  Date: Thursday 21 March 2019\n  Venue: Broadbeach Bowls Club\n  Arrive: 5.30pm for a 6pm start\n  *** Drinks and food can be bought at the venue\n  *** Teams maximum of 6 people and if you don't have a team\, register anyway and we can find a team for you to join.\n  \n\n
DTSTAMP:20260424T163154Z
END:VEVENT
END:VCALENDAR
