BEGIN:VCALENDAR
VERSION:2.0
METHOD:PUBLISH
BEGIN:VEVENT
UID:WILD_APRICOT_EVENT_3203147_SESSION_1
DTSTART:20190207T203000Z
DTEND:20190207T203000Z
SUMMARY:Meet the Judiciary Breakfast
LOCATION:HORIZONS ROOMS SHERATON GRAND MIRAGE RESORT 71 SEAWORLD DRIVE MAIN BEACH
DESCRIPTION:https://www.gcdla.com.au/event-3203147\n\n\n\n
DTSTAMP:20260424T160510Z
END:VEVENT
END:VCALENDAR
