BEGIN:VCALENDAR
VERSION:2.0
METHOD:PUBLISH
BEGIN:VEVENT
UID:WILD_APRICOT_EVENT_3170996_SESSION_1
DTSTART:20190124T073000Z
DTEND:20190124T073000Z
SUMMARY:An Evening of Barefoot Bowls
LOCATION:Broadbeach Bowls Club
DESCRIPTION:https://www.gcdla.com.au/event-3170996\n\nIn the spirit of bringing the profession together in 2019\, the GCDLA invites colleagues\, friends and all those involved in the Gold Coast legal profession to enjoy an evening of Barefoot Bowls to kick start the Australia Day Weekend.\n  The event will be held at Broadbeach Bowls Club on Thursday 24 January 2019 from 5:30pm.\n  Register your team of 3 or 4 people and team name by 17 January 2019.\n  Tickets are $15 per person and includes a drink on arrival and barefoot bowls competition.\n  Please identify your team members and team name in the notes section when registering your team.\n  If you do not have a team\, please let us know so we can place you in a team on the night!\n  Prizes to third place!\n  \n\n
DTSTAMP:20260424T155700Z
END:VEVENT
END:VCALENDAR
