BEGIN:VCALENDAR
VERSION:2.0
METHOD:PUBLISH
BEGIN:VEVENT
UID:WILD_APRICOT_EVENT_3158837_SESSION_1
DTSTART:20191031T140000Z
DTEND:20191102T140000Z
SUMMARY:QLS Succession and Elder Law Conference
LOCATION:Gold Coast
DESCRIPTION:https://www.gcdla.com.au/event-3158837\n\n\n\n
DTSTAMP:20260424T162642Z
END:VEVENT
END:VCALENDAR
