BEGIN:VCALENDAR
VERSION:2.0
METHOD:PUBLISH
BEGIN:VEVENT
UID:WILD_APRICOT_EVENT_3158836_SESSION_1
DTSTART:20191001T213000Z
DTEND:20191001T213000Z
SUMMARY:GLAD breakfast
LOCATION:Spendelove
DESCRIPTION:https://www.gcdla.com.au/event-3158836\n\n\n\n
DTSTAMP:20260424T162652Z
END:VEVENT
END:VCALENDAR
