BEGIN:VCALENDAR
VERSION:2.0
METHOD:PUBLISH
BEGIN:VEVENT
UID:WILD_APRICOT_EVENT_3158834_SESSION_1
DTSTART:20190806T213000Z
DTEND:20190806T213000Z
SUMMARY:GLAD breakfast
LOCATION:Spendelove
DESCRIPTION:https://www.gcdla.com.au/event-3158834\n\n\n\n
DTSTAMP:20260424T162633Z
END:VEVENT
END:VCALENDAR
