BEGIN:VCALENDAR
VERSION:2.0
METHOD:PUBLISH
BEGIN:VEVENT
UID:WILD_APRICOT_EVENT_3158833_SESSION_1
DTSTART:20190606T140000Z
DTEND:20190607T140000Z
SUMMARY:QLS/GCDLA Symposium
LOCATION:
DESCRIPTION:https://www.gcdla.com.au/event-3158833\n\n\n\n
DTSTAMP:20260424T173445Z
END:VEVENT
END:VCALENDAR
