BEGIN:VCALENDAR
VERSION:2.0
METHOD:PUBLISH
BEGIN:VEVENT
UID:WILD_APRICOT_EVENT_3158832_SESSION_1
DTSTART:20190604T213000Z
DTEND:20190604T213000Z
SUMMARY:GLAD breakfast
LOCATION:Spendelove
DESCRIPTION:https://www.gcdla.com.au/event-3158832\n\n\n\n
DTSTAMP:20260424T172042Z
END:VEVENT
END:VCALENDAR
