BEGIN:VCALENDAR
VERSION:2.0
METHOD:PUBLISH
BEGIN:VEVENT
UID:WILD_APRICOT_EVENT_3158831_SESSION_1
DTSTART:20190402T213000Z
DTEND:20190402T213000Z
SUMMARY:GLAD breakfast
LOCATION:Spendelove
DESCRIPTION:https://www.gcdla.com.au/event-3158831\n\n\n\n
DTSTAMP:20260424T160547Z
END:VEVENT
END:VCALENDAR
