BEGIN:VCALENDAR
VERSION:2.0
METHOD:PUBLISH
BEGIN:VEVENT
UID:WILD_APRICOT_EVENT_3158830_SESSION_1
DTSTART:20190314T140000Z
DTEND:20190316T140000Z
SUMMARY:QLS Symposium and Legal Profession Dinner & Awards
LOCATION:Brisbane Convention & Exhibition Centre\, Southbank
DESCRIPTION:https://www.gcdla.com.au/event-3158830\n\n\n\n
DTSTAMP:20260424T160902Z
END:VEVENT
END:VCALENDAR
