BEGIN:VCALENDAR
VERSION:2.0
METHOD:PUBLISH
BEGIN:VEVENT
UID:WILD_APRICOT_EVENT_3158828_SESSION_1
DTSTART:20190307T140000Z
DTEND:20190308T140000Z
SUMMARY:International Women’s Day
LOCATION:
DESCRIPTION:https://www.gcdla.com.au/event-3158828\n\n\n\n
DTSTAMP:20260424T173632Z
END:VEVENT
END:VCALENDAR
