BEGIN:VCALENDAR
VERSION:2.0
METHOD:PUBLISH
BEGIN:VEVENT
UID:WILD_APRICOT_EVENT_3158826_SESSION_1
DTSTART:20190205T213000Z
DTEND:20190205T213000Z
SUMMARY:GLAD breakfast
LOCATION:Spendelove
DESCRIPTION:https://www.gcdla.com.au/event-3158826\n\n\n\n
DTSTAMP:20260424T175320Z
END:VEVENT
END:VCALENDAR
