BEGIN:VCALENDAR
VERSION:2.0
METHOD:PUBLISH
BEGIN:VEVENT
UID:WILD_APRICOT_EVENT_3131412_SESSION_1
DTSTART:20181121T073000Z
DTEND:20181121T073000Z
SUMMARY:The Fine Line Between Questions of Law or Fact - CLE Event
LOCATION:165 Varsity Parade\, Varsity Lakes
DESCRIPTION:https://www.gcdla.com.au/event-3131412\n\n\n\n  \n\n
DTSTAMP:20260424T163204Z
END:VEVENT
END:VCALENDAR
